{
 "currentVersion": 10.61,
 "serviceDescription": "raster/R2025_25",
 "name": "raster/R2025_25",
 "description": "",
 "extent": {
  "xmin": 177129,
  "ymin": 253179,
  "xmax": 229611,
  "ymax": 311556,
  "spatialReference": {
   "wkid": 102083,
   "latestWkid": 5187
  }
 },
 "initialExtent": {
  "xmin": 177129,
  "ymin": 253179,
  "xmax": 229611,
  "ymax": 311556,
  "spatialReference": {
   "wkid": 102083,
   "latestWkid": 5187
  }
 },
 "fullExtent": {
  "xmin": 177129,
  "ymin": 253179,
  "xmax": 229611,
  "ymax": 311556,
  "spatialReference": {
   "wkid": 102083,
   "latestWkid": 5187
  }
 },
 "pixelSizeX": 0.25,
 "pixelSizeY": 0.25,
 "bandCount": 3,
 "pixelType": "U8",
 "minPixelSize": 0,
 "maxPixelSize": 0,
 "copyrightText": "",
 "serviceDataType": "esriImageServiceDataTypeRGB",
 "minValues": [
  0,
  0,
  0
 ],
 "maxValues": [
  255,
  255,
  255
 ],
 "meanValues": [
  179.0190611199928,
  188.2549954956198,
  185.16901245040788
 ],
 "stdvValues": [
  96.77007657987347,
  84.89359481705826,
  88.79304424933085
 ],
 "objectIdField": "",
 "fields": [],
 "capabilities": "Image,Metadata,Mensuration",
 "defaultMosaicMethod": "Center",
 "allowedMosaicMethods": "",
 "sortField": "",
 "sortValue": null,
 "mosaicOperator": "First",
 "defaultCompressionQuality": 75,
 "defaultResamplingMethod": "Bilinear",
 "maxImageHeight": 4100,
 "maxImageWidth": 15000,
 "allowRasterFunction": true,
 "rasterFunctionInfos": [
  {
   "name": "None",
   "description": "",
   "help": ""
  }
 ],
 "rasterTypeInfos": [
  {
   "name": "Raster Dataset",
   "description": "Supports all ArcGIS Raster Datasets",
   "help": ""
  }
 ],
 "mensurationCapabilities": "Basic",
 "hasHistograms": true,
 "hasColormap": false,
 "hasRasterAttributeTable": false,
 "minScale": 0,
 "maxScale": 0,
 "exportTilesAllowed": false,
 "hasMultidimensions": false,
 "supportsStatistics": false,
 "supportsAdvancedQueries": false,
 "editFieldsInfo": null,
 "ownershipBasedAccessControlForRasters": null,
 "allowComputeTiePoints": false,
 "useStandardizedQueries": true,
 "advancedQueryCapabilities": {
  "useStandardizedQueries": true,
  "supportsStatistics": false,
  "supportsOrderBy": false,
  "supportsDistinct": false,
  "supportsPagination": false
 },
 "spatialReference": {
  "wkid": 102083,
  "latestWkid": 5187
 }
}
