View In:
ArcGIS JavaScript
ArcGIS Online Map Viewer
ArcGIS Earth
ArcMap
View Footprint In:
ArcGIS Online Map Viewer
Service Description: raster/R2021_25
Name: raster/R2021_25
Description:
Single Fused Map Cache: false
Extent:
XMin: 177129.0001220703
YMin: 253179.0001220703
XMax: 229611.0001220703
YMax: 311565.0001220703
Spatial Reference:
102083
(5187)
Initial Extent:
XMin: 177129.0001220703
YMin: 253179.0001220703
XMax: 229611.0001220703
YMax: 311565.0001220703
Spatial Reference:
102083
(5187)
Full Extent:
XMin: 177129.0001220703
YMin: 253179.0001220703
XMax: 229611.0001220703
YMax: 311565.0001220703
Spatial Reference:
102083
(5187)
Pixel Size X: 0.25
Pixel Size Y: 0.25
Band Count: 3
Pixel Type: U8
RasterFunction Infos: {"rasterFunctionInfos": [{
"name": "None",
"description": "",
"help": ""
}]}
Mensuration Capabilities: Basic
Has Histograms: true
Has Colormap: false
Has Multi Dimensions : false
Rendering Rule:
Min Scale: 0
Max Scale: 0
Copyright Text:
Service Data Type: esriImageServiceDataTypeRGB
Min Values: 0, 0, 0
Max Values: 255, 255, 255
Mean Values: 78.7180003557576, 90.3134693257429, 88.02859070261765
Standard Deviation Values: 51.84023963835393, 44.2941624858959, 38.31009345004166
Object ID Field:
Fields:
None
Default Mosaic Method: Center
Allowed Mosaic Methods:
SortField:
SortValue: null
Mosaic Operator: First
Default Compression Quality: 75
Default Resampling Method: Bilinear
Max Record Count: null
Max Image Height: 4100
Max Image Width: 15000
Max Download Image Count: null
Max Mosaic Image Count: null
Allow Raster Function: true
Allow Compute TiePoints: false
Supports Statistics: false
Supports Advanced Queries: false
Use StandardizedQueries: true
Raster Type Infos:
Name: Raster Dataset
Description: Supports all ArcGIS Raster Datasets
Help:
Has Raster Attribute Table: false
Edit Fields Info: null
Ownership Based AccessControl For Rasters: null
Child Resources:
Info
Histograms
Key Properties
Legend
MultiDimensionalInfo
rasterFunctionInfos
Supported Operations:
Export Image
Identify
Measure
Compute Histograms
Compute Statistics Histograms
Get Samples
Compute Class Statistics
Query Boundary